Workbook

Sheet Výpočty
A2: Odhad nákladové funkce pekárny | K2: Objem Q | L2: Skutečné náklady | M2: Regresní přímka
K3: =SMALL('Vstupní data'!$B$5:$B$16,ROWS($K$3:K3)) -> 42 | L3: =SUMIF('Vstupní data'!$B$5:$B$16,K3,'Vstupní data'!$C$5:$C$16) -> 786 | M3: =$G$7+$G$8*K3 -> 786.39454
K4: =SMALL('Vstupní data'!$B$5:$B$16,ROWS($K$3:K4)) -> 48 | L4: =SUMIF('Vstupní data'!$B$5:$B$16,K4,'Vstupní data'!$C$5:$C$16) -> 838 | M4: =$G$7+$G$8*K4 -> 834.42713
A5: Metoda dvou období (nejvyšší a nejnižší objem) | F5: Regresní a korelační analýza | K5: =SMALL('Vstupní data'!$B$5:$B$16,ROWS($K$3:K5)) -> 52 | L5: =SUMIF('Vstupní data'!$B$5:$B$16,K5,'Vstupní data'!$C$5:$C$16) -> 864 | M5: =$G$7+$G$8*K5 -> 866.44886
K6: =SMALL('Vstupní data'!$B$5:$B$16,ROWS($K$3:K6)) -> 55 | L6: =SUMIF('Vstupní data'!$B$5:$B$16,K6,'Vstupní data'!$C$5:$C$16) -> 886 | M6: =$G$7+$G$8*K6 -> 890.46515
A7: Nejnižší objem výroby | B7: =MIN('Vstupní data'!B5:B16) -> 42 | C7: tis. kusů | D7: minimum Q | F7: Fixní náklady a | G7: =AVERAGE('Vstupní data'!C5:C16)-G8*AVERAGE('Vstupní data'!B5:B16) -> 450.16644 | H7: tis. Kč/měsíc | I7: regresní konstanta | K7: =SMALL('Vstupní data'!$B$5:$B$16,ROWS($K$3:K7)) -> 58 | L7: =SUMIF('Vstupní data'!$B$5:$B$16,K7,'Vstupní data'!$C$5:$C$16) -> 916 | M7: =$G$7+$G$8*K7 -> 914.48144
A8: Náklady v nejnižším období | B8: =SUMIF('Vstupní data'!B5:B16,B7,'Vstupní data'!C5:C16) -> 786 | C8: tis. Kč | D8: odpovídající N | F8: Variabilní náklady b | G8: =(COUNT('Vstupní data'!B5:B16)*SUMPRODUCT('Vstupní data'!B5:B16,'Vstupní data'!C5:C16)-SUM('Vstupní data'!B5:B16)*SUM('Vstupní data'!C5:C16))/(COUNT('Vstupní data'!B5:B16)*SUMPRODUCT('Vstupní data'!B5:B16,'Vstupní data'!B5:B16)-SUM('Vstupní data'!B5:B16)^2) -> 8.0054312 | H8: Kč/kus | I8: směrnice přímky | K8: =SMALL('Vstupní data'!$B$5:$B$16,ROWS($K$3:K8)) -> 60 | L8: =SUMIF('Vstupní data'!$B$5:$B$16,K8,'Vstupní data'!$C$5:$C$16) -> 932 | M8: =$G$7+$G$8*K8 -> 930.49231
A9: Nejvyšší objem výroby | B9: =MAX('Vstupní data'!B5:B16) -> 80 | C9: tis. kusů | D9: maximum Q | F9: Korelační koeficient r | G9: =(COUNT('Vstupní data'!B5:B16)*SUMPRODUCT('Vstupní data'!B5:B16,'Vstupní data'!C5:C16)-SUM('Vstupní data'!B5:B16)*SUM('Vstupní data'!C5:C16))/SQRT((COUNT('Vstupní data'!B5:B16)*SUMPRODUCT('Vstupní data'!B5:B16,'Vstupní data'!B5:B16)-SUM('Vstupní data'!B5:B16)^2)*(COUNT('Vstupní data'!C5:C16)*SUMPRODUCT('Vstupní data'!C5:C16,'Vstupní data'!C5:C16)-SUM('Vstupní data'!C5:C16)^2)) -> 0.99958805 | I9: síla přímé závislosti | K9: =SMALL('Vstupní data'!$B$5:$B$16,ROWS($K$3:K9)) -> 62 | L9: =SUMIF('Vstupní data'!$B$5:$B$16,K9,'Vstupní data'!$C$5:$C$16) -> 950 | M9: =$G$7+$G$8*K9 -> 946.50317
A10: Náklady v nejvyšším období | B10: =SUMIF('Vstupní data'!B5:B16,B9,'Vstupní data'!C5:C16) -> 1090 | C10: tis. Kč | D10: odpovídající N | F10: Koeficient determinace R² | G10: =G9^2 -> 0.99917627 | I10: vysvětlený podíl variability | K10: =SMALL('Vstupní data'!$B$5:$B$16,ROWS($K$3:K10)) -> 66 | L10: =SUMIF('Vstupní data'!$B$5:$B$16,K10,'Vstupní data'!$C$5:$C$16) -> 976 | M10: =$G$7+$G$8*K10 -> 978.52489
K11: =SMALL('Vstupní data'!$B$5:$B$16,ROWS($K$3:K11)) -> 68 | L11: =SUMIF('Vstupní data'!$B$5:$B$16,K11,'Vstupní data'!$C$5:$C$16) -> 992 | M11: =$G$7+$G$8*K11 -> 994.53576
A12: Variabilní náklady b | B12: =(B10-B8)/(B9-B7) -> 8 | C12: Kč/kus | D12: (Nmax − Nmin) / (Qmax − Qmin) | F12: Výsledná funkce | G12: =G7 -> 450.16644 | H12: + | I12: =G8 -> 8.0054312 | J12: × Q | K12: =SMALL('Vstupní data'!$B$5:$B$16,ROWS($K$3:K12)) -> 72 | L12: =SUMIF('Vstupní data'!$B$5:$B$16,K12,'Vstupní data'!$C$5:$C$16) -> 1028 | M12: =$G$7+$G$8*K12 -> 1026.5575
A13: Fixní náklady a | B13: =B10-B12*B9 -> 450 | C13: tis. Kč/měsíc | D13: Nmax − b × Qmax | K13: =SMALL('Vstupní data'!$B$5:$B$16,ROWS($K$3:K13)) -> 74 | L13: =SUMIF('Vstupní data'!$B$5:$B$16,K13,'Vstupní data'!$C$5:$C$16) -> 1044 | M13: =$G$7+$G$8*K13 -> 1042.5683
F14: Čím více se r blíží 1, tím silnější je přímá závislost mezi výrobou a náklady. | K14: =SMALL('Vstupní data'!$B$5:$B$16,ROWS($K$3:K14)) -> 80 | L14: =SUMIF('Vstupní data'!$B$5:$B$16,K14,'Vstupní data'!$C$5:$C$16) -> 1090 | M14: =$G$7+$G$8*K14 -> 1090.6009
A15: Výsledná funkce | B15: =B13 -> 450 | C15: + | D15: =B12 -> 8 | E15: × Q
A17: Závěr: obě metody dávají u těchto dat téměř shodný odhad nákladové funkce.
A40: Interpretace: 1 tisíc dalších kusů zvyšuje podle regrese celkové náklady přibližně o 8,01 tis. Kč.

Sheet Vstupní data
A2: Pekárna – vstupní data pro odhad nákladové funkce
A4: Měsíc | B4: Objem výroby Q (tis. kusů) | C4: Celkové náklady N (tis. Kč) | D4: Odhad regrese N̂ (tis. Kč) | E4: Reziduum N − N̂
A5: leden | B5: 42 | C5: 786 | D5: =Výpočty!$G$7+Výpočty!$G$8*B5 -> 786.39454 | E5: =C5-D5 -> -0.39454469
A6: únor | B6: 48 | C6: 838 | D6: =Výpočty!$G$7+Výpočty!$G$8*B6 -> 834.42713 | E6: =C6-D6 -> 3.5728683
A7: březen | B7: 55 | C7: 886 | D7: =Výpočty!$G$7+Výpočty!$G$8*B7 -> 890.46515 | E7: =C7-D7 -> -4.46515
A8: duben | B8: 62 | C8: 950 | D8: =Výpočty!$G$7+Výpočty!$G$8*B8 -> 946.50317 | E8: =C8-D8 -> 3.4968318
A9: květen | B9: 68 | C9: 992 | D9: =Výpočty!$G$7+Výpočty!$G$8*B9 -> 994.53576 | E9: =C9-D9 -> -2.5357552
A10: červen | B10: 72 | C10: 1028 | D10: =Výpočty!$G$7+Výpočty!$G$8*B10 -> 1026.5575 | E10: =C10-D10 -> 1.4425201
A11: červenec | B11: 60 | C11: 932 | D11: =Výpočty!$G$7+Výpočty!$G$8*B11 -> 930.49231 | E11: =C11-D11 -> 1.5076942
A12: srpen | B12: 52 | C12: 864 | D12: =Výpočty!$G$7+Výpočty!$G$8*B12 -> 866.44886 | E12: =C12-D12 -> -2.4488564
A13: září | B13: 58 | C13: 916 | D13: =Výpočty!$G$7+Výpočty!$G$8*B13 -> 914.48144 | E13: =C13-D13 -> 1.5185565
A14: říjen | B14: 66 | C14: 976 | D14: =Výpočty!$G$7+Výpočty!$G$8*B14 -> 978.52489 | E14: =C14-D14 -> -2.5248929
A15: listopad | B15: 74 | C15: 1044 | D15: =Výpočty!$G$7+Výpočty!$G$8*B15 -> 1042.5683 | E15: =C15-D15 -> 1.4316577
A16: prosinec | B16: 80 | C16: 1090 | D16: =Výpočty!$G$7+Výpočty!$G$8*B16 -> 1090.6009 | E16: =C16-D16 -> -0.60092933
A17: Celkem | B17: =SUM(B5:B16) -> 737 | C17: =SUM(C5:C16) -> 11302
A18: Měsíční průměr | B18: =AVERAGE(B5:B16) -> 61.416667 | C18: =AVERAGE(C5:C16) -> 941.83333
A20: Žluté buňky jsou vstupy. Modré buňky se dopočítávají automaticky podle regresního modelu.
A22: Zdroj: ilustrativní měsíční data pekárny použitá v přednášce K1NKC.
